BEGIN:VCALENDAR
PRODID:-//eluceo/ical//2.0/EN
VERSION:2.0
CALSCALE:GREGORIAN
BEGIN:VEVENT
UID:5c37d597f3bd1f07390b5cb2be3af4c5
DTSTAMP:20260419T214002Z
SUMMARY:Seder Gems from Fruits of Freedom
DESCRIPTION:Jewish Federation of the Berkshires\nJewish Federation of the B
 erkshires\nhttps://jewishberkshires.org/jewish-federation-of-the-berkshire
 s/seder-gems-from-fruits-of-freedom-373990\n\nBananas on the Seder Plate\,
  the Spanish Pesach Bunny\, and Pomegranates From the Sea
DTSTART;TZID=America/New_York:20210315T184500
DTEND;TZID=America/New_York:20210315T194500
END:VEVENT
END:VCALENDAR
