BEGIN:VCALENDAR
PRODID:-//eluceo/ical//2.0/EN
VERSION:2.0
CALSCALE:GREGORIAN
BEGIN:VEVENT
UID:f6049d17a3cf4fa4924bc3b2833b6c87
DTSTAMP:20260422T175105Z
SUMMARY:Scam and Fraud Awareness & Prevention
DESCRIPTION:Jewish Federation of the Berkshires\nJewish Federation of the B
 erkshires\nhttps://jewishberkshires.org/jewish-federation-of-the-berkshire
 s/scam-and-fraud-awareness-prevention-295041\n\nScam and Fraud Awareness &
  Prevention 
DTSTART;TZID=America/New_York:20190110T104500
DTEND;TZID=America/New_York:20190110T120000
END:VEVENT
END:VCALENDAR
