BEGIN:VCALENDAR
PRODID:-//eluceo/ical//2.0/EN
VERSION:2.0
CALSCALE:GREGORIAN
BEGIN:VEVENT
UID:db0efaf5a8286bc57e3de80ed724370e
DTSTAMP:20260423T233624Z
SUMMARY:Cancelled: Say Hello to Spring with PJ Library
DESCRIPTION:Jewish Federation of the Berkshires\nJewish Federation of the B
 erkshires\nhttps://jewishberkshires.org/jewish-federation-of-the-berkshire
 s/say-hello-to-spring-with-pj-library-341471\n\nSpring Equinox Nature Walk
  
DTSTART;TZID=America/New_York:20200322T143000
DTEND;TZID=America/New_York:20200322T160000
END:VEVENT
END:VCALENDAR
