BEGIN:VCALENDAR
PRODID:-//eluceo/ical//2.0/EN
VERSION:2.0
CALSCALE:GREGORIAN
BEGIN:VEVENT
UID:9af766a672d1e57acea9d954f2f60542
DTSTAMP:20260425T143626Z
SUMMARY:Jewish Food Series: Cooking Demo with Israeli Chef Moshe Basson
DESCRIPTION:Jewish Federation of the Berkshires\nJewish Federation of the B
 erkshires\nhttps://jewishberkshires.org/jewish-federation-of-the-berkshire
 s/save-the-date-jewish-literary-voices-series-470175\n\nVia Zoom.  Regist
 er HERE.  \n\nSpecial Jewish Food Series Lunch Program with Chefs\, Auth
 ors\, Food Writers\n\nJewish Literary Voices: A Federation Series in colla
 boration with The Jewish Book Council\n\nIn preparation for the High Holy 
 Days\, join Chef Moshe Basson\, founder of the landmark Eucalyptus restaur
 ant in Jerusalem and Israeli food historian for a cooking demo of Sayadie
 h\, a special fish dish with rice and spices connected to Rosh Hashanah\, 
 as part of a discussion of The Eucalyptus...
DTSTART;TZID=America/New_York:20240909T104500
DTEND;TZID=America/New_York:20240909T120000
END:VEVENT
END:VCALENDAR
