BEGIN:VCALENDAR
PRODID:-//eluceo/ical//2.0/EN
VERSION:2.0
CALSCALE:GREGORIAN
BEGIN:VEVENT
UID:f07281f02a06b9de0a8e1f45b010804d
DTSTAMP:20260422T010259Z
SUMMARY:10/7: One Hundred Human Stories
DESCRIPTION:Jewish Federation of the Berkshires\nJewish Federation of the B
 erkshires\nhttps://jewishberkshires.org/jewish-federation-of-the-berkshire
 s/save-the-date-jewish-literary-voices-series-2-470176\n\nVia Zoom.  Regi
 ster HERE.\n\nJewish Literary Voices: A Federation Series in collaboration
  with The Jewish Book Council\n\nThe definitive account of the 10/7 massac
 re through the stories of its victims and the communities they called home
 .\n\nA masterful work of investigative journalism by acclaimed Haaretz rep
 orter Lee Yaron\, 10/7 chronicles the massacre that ignited a war through 
 the stories of more than 100 civilians. These stories are the products of 
 extensive interviews with survivors\, t...
DTSTART;TZID=America/New_York:20241031T190000
DTEND;TZID=America/New_York:20241031T200000
END:VEVENT
END:VCALENDAR
