BEGIN:VCALENDAR
PRODID:-//eluceo/ical//2.0/EN
VERSION:2.0
CALSCALE:GREGORIAN
BEGIN:VEVENT
UID:fc6131c33cd96a520d0a9233ea412476
DTSTAMP:20260422T154328Z
SUMMARY:Opening Doors:The Unlikely Alliance between the Irish & the Jews in
  America
DESCRIPTION:Jewish Federation of the Berkshires\nJewish Federation of the B
 erkshires\nhttps://jewishberkshires.org/jewish-federation-of-the-berkshire
 s/save-the-date-jewish-literary-voices-series-12-470186\n\nVia Zoom.  Reg
 ister HERE.\n\nJewish Literary Voices: A Federation Series in collaboratio
 n with The Jewish Book Council\n\nIn Opening Doors\, Hasia R. Diner\, one 
 of the world’s preeminent historians of immigration\, details how Jewish
  and Irish immigrants worked together to secure legitimacy in America at t
 he turn of the twentieth century. The book draws from historical sources t
 o dispel the popular belief that these groups regarded one another with op
 en hostility\, fiercely competing for limi...
DTSTART;TZID=America/New_York:20250515T190000
DTEND;TZID=America/New_York:20250515T200000
END:VEVENT
END:VCALENDAR
