BEGIN:VCALENDAR
PRODID:-//eluceo/ical//2.0/EN
VERSION:2.0
CALSCALE:GREGORIAN
BEGIN:VEVENT
UID:fb47f2cae9935b86d66470f9f18961c9
DTSTAMP:20260425T190451Z
SUMMARY:Defiant Requiem– Community Film Screening and Holocaust Remembran
 ce Day
DESCRIPTION:Jewish Federation of the Berkshires\nJewish Federation of the B
 erkshires\nhttps://jewishberkshires.org/jewish-federation-of-the-berkshire
 s/save-the-date-community-yom-hashoah-commemoration-480261\n\nPLEASE NOTE:
  \n\nDue to an overwhelming response\, registration for this event is cur
 rently at full capacity.\n\nWe will not be able to accommodate walk-ins.\n
 \n Please check back to see if seats open up. \n\nTickets are REQUIRED.
   \n\nJoin us for a community commemoration of Yom HaShoah-Holocaust Rem
 embrance Day Concert featuring the film Defiant Requiem. \n\nFollowing th
 e film will be a performance by renowned violinist Yevgeny Kutik\, a memor
 ial candle lighting\, prayers and a moment of...
DTSTART;TZID=America/New_York:20250427T140000
DTEND;TZID=America/New_York:20250427T153000
END:VEVENT
END:VCALENDAR
