BEGIN:VCALENDAR
PRODID:-//eluceo/ical//2.0/EN
VERSION:2.0
CALSCALE:GREGORIAN
BEGIN:VEVENT
UID:75ea3695ac1a201983c166d1b2d885ae
DTSTAMP:20260420T105918Z
SUMMARY:Celebrate Chanukah at Radiant Nights
DESCRIPTION:Jewish Federation of the Berkshires\nJewish Federation of the B
 erkshires\nhttps://jewishberkshires.org/jewish-federation-of-the-berkshire
 s/save-the-date-community-chanukkah-gathering-475963\n\n5-8 PM - Immerse 
 yourself in Radant Nights" Walk through the Village and explore Radiant N
 ights' sparkling lights\, music\, farm animals\, and dazzling art video pr
 ojections at your leisure between 5-8 p.m. Then join the Berkshire Jewish
  community in celebrating the Festival of Lights.\n\n6 PM - Menorah Lighti
 ng and Holiday Fun: Join us upstairs inside the Round Stone Barn as we ki
 ndle the menorah lights and celebrate with live music\, Chanukah songs\, t
 asty treats\, hot drinks\, glow fun\, and s...
DTSTART;TZID=America/New_York:20241229T170000
DTEND;TZID=America/New_York:20241229T190000
END:VEVENT
END:VCALENDAR
