BEGIN:VCALENDAR
PRODID:-//eluceo/ical//2.0/EN
VERSION:2.0
CALSCALE:GREGORIAN
BEGIN:VEVENT
UID:58c2bc4b4408170789795c83e8f441c2
DTSTAMP:20260422T235450Z
SUMMARY:Sage-ing: Creating a Legacy of Wisdom
DESCRIPTION:Jewish Federation of the Berkshires\nJewish Federation of the B
 erkshires\nhttps://jewishberkshires.org/jewish-federation-of-the-berkshire
 s/sage-ing-creating-a-legacy-of-wisdom-217958\n\nThe Jewish Federation Con
 necting with Community series welcomes Audrey Seidman who recently complet
 ed the ALEPH (Alliance for Jewish Renewal) Sage-ing Mentorship program.  
DTSTART;TZID=America/New_York:20170227T104500
DTEND;TZID=America/New_York:20170227T120000
END:VEVENT
END:VCALENDAR
