BEGIN:VCALENDAR
PRODID:-//eluceo/ical//2.0/EN
VERSION:2.0
CALSCALE:GREGORIAN
BEGIN:VEVENT
UID:8c236a9458c6c65ca18b360ce91d4a04
DTSTAMP:20260420T013922Z
SUMMARY:Sacred Season of Memory:  Rebecca Soffer on The Modern Loss Handboo
 k
DESCRIPTION:Jewish Federation of the Berkshires\nJewish Federation of the B
 erkshires\nhttps://jewishberkshires.org/jewish-federation-of-the-berkshire
 s/sacred-season-of-memory-rebecca-soffer-on-the-modern-loss-handbook-40504
 7\n\nRegister Here\n\nPlease note:  Masks and proof of vaccination for th
 ose eligible are required.  \n\nThe weeks leading up to the Days of Awe 
 are a time on the Jewish calendar for reflection and remembrance that also
  mirror and amplify the daily lived experience of loss and memory. \n\nJo
 in Rebecca Soffer\, Berkshires resident and co-founder of Modern Loss\, a 
 global movement and platform of content\, resources\, and community focuse
 d on eradicating the stigma around grief while also encouragin...
DTSTART;TZID=America/New_York:20220916T104500
DTEND;TZID=America/New_York:20220916T120000
END:VEVENT
END:VCALENDAR
