BEGIN:VCALENDAR
PRODID:-//eluceo/ical//2.0/EN
VERSION:2.0
CALSCALE:GREGORIAN
BEGIN:VEVENT
UID:c79777ed623042168d59d5ac3f8d6350
DTSTAMP:20260421T094537Z
SUMMARY:Ruth Messinger Scholar In Residence Weekend Central County
DESCRIPTION:Jewish Federation of the Berkshires\nJewish Federation of the B
 erkshires\nhttps://jewishberkshires.org/jewish-federation-of-the-berkshire
 s/ruth-messinger-scholar-in-residence-weekend-central-county-432986\n\nCou
 nty-Wide Community Scholar-in-Residence Weekend with Ruth Messinger\, Augu
 st 18\, 19\, and 20\n\nRuth W. Messinger\, President of American Jewish Wo
 rld Service (AJWS) from 1998 to July of 2016\, is currently the organizati
 on’s inaugural Global Ambassador.  She will address issues of justice\,
  philosophies of tzedakah\, human rights and responses to world crises thr
 ough the lens of contemporary Judaism at three locations across the Berksh
 ires\, Aug. 18 (The Role of Social and Racial Justice In...
DTSTART;TZID=America/New_York:20230819T093000
DTEND;TZID=America/New_York:20230819T140000
END:VEVENT
END:VCALENDAR
