BEGIN:VCALENDAR
PRODID:-//eluceo/ical//2.0/EN
VERSION:2.0
CALSCALE:GREGORIAN
BEGIN:VEVENT
UID:593017f735d993cf7c3c5352c8401c7a
DTSTAMP:20260422T120402Z
SUMMARY:Rosh Chodesh Circle with Berkshire Jewish Collective: 20's\, 30's a
 nd 40's
DESCRIPTION:Jewish Federation of the Berkshires\nJewish Federation of the B
 erkshires\nhttps://jewishberkshires.org/jewish-federation-of-the-berkshire
 s/rosh-chodesh-circle-with-berkshire-jewish-collective-510665\n\n@font-fac
 e {font-family:"Cambria Math"\; panose-1:2 4 5 3 5 4 6 3 2 4\; mso-font-ch
 arset:0\; mso-generic-font-family:roman\; mso-font-pitch:variable\; mso-fo
 nt-signature:-536870145 1107305727 0 0 415 0\;}@font-face {font-family:Cal
 ibri\; panose-1:2 15 5 2 2 2 4 3 2 4\; mso-font-charset:0\; mso-generic-fo
 nt-family:swiss\; mso-font-pitch:variable\; mso-font-signature:-536859905 
 -1073732485 9 0 511 0\;}@font-face {font-family:Aptos\; panose-1:2 11 0 4 
 2 2 2 2 2 4\; mso-font-charset:0\; mso-generic-font...
DTSTART;TZID=America/New_York:20260218T180000
DTEND;TZID=America/New_York:20260218T184500
END:VEVENT
END:VCALENDAR
