BEGIN:VCALENDAR
PRODID:-//eluceo/ical//2.0/EN
VERSION:2.0
CALSCALE:GREGORIAN
BEGIN:VEVENT
UID:65227248f8e4d292b3996777d21a62f4
DTSTAMP:20260425T112801Z
SUMMARY:Rain of Ash: Roma\, Jews\, and the Holocaust
DESCRIPTION:Jewish Federation of the Berkshires\nJewish Federation of the B
 erkshires\nhttps://jewishberkshires.org/jewish-federation-of-the-berkshire
 s/rain-of-ash-roma-jews-and-the-holocaust-442758\n\nVia Zoom.  Register H
 ERE.\n\nJewish Literary Voices: A Jewish Federation of the Berkshires Seri
 es in collaboration with Jewish Book Council\n\nJews and Roma died side b
 y side in the Holocaust\, yet the world did not recognize their destructio
 n equally. In the years and decades following the war\, the Jewish experie
 nce of genocide increasingly occupied the attention of legal experts\, sch
 olars\, educators\, curators\, and politicians\, while the genocide of Eur
 ope’s Roma went largely ignored. Ra...
DTSTART;TZID=America/New_York:20240408T190000
DTEND;TZID=America/New_York:20240408T200000
END:VEVENT
END:VCALENDAR
