BEGIN:VCALENDAR
PRODID:-//eluceo/ical//2.0/EN
VERSION:2.0
CALSCALE:GREGORIAN
BEGIN:VEVENT
UID:53396184aa2f9280a1d9bb275326e624
DTSTAMP:20260421T005350Z
SUMMARY:Questioning Return\, a Reading with Novel set in Israel
DESCRIPTION:Jewish Federation of the Berkshires\nJewish Federation of the B
 erkshires\nhttps://jewishberkshires.org/jewish-federation-of-the-berkshire
 s/questioning-return-a-reading-with-novel-set-in-israel-198061\n\nThe Jewi
 sh Federation Connecting with Community series presents "Questioning Retur
 n\, a Reading with Novel set in Israel."
DTSTART;TZID=America/New_York:20160822T104500
DTEND;TZID=America/New_York:20160822T120000
END:VEVENT
END:VCALENDAR
