BEGIN:VCALENDAR
PRODID:-//eluceo/ical//2.0/EN
VERSION:2.0
CALSCALE:GREGORIAN
BEGIN:VEVENT
UID:44f68183265b668d80c3899d62a87aff
DTSTAMP:20260425T010119Z
SUMMARY:Puzzles and Solutions in Science and Torah
DESCRIPTION:Jewish Federation of the Berkshires\nJewish Federation of the B
 erkshires\nhttps://jewishberkshires.org/jewish-federation-of-the-berkshire
 s/puzzles-and-solutions-in-science-and-torah-429953\n\nThis presentation b
 y TorahFlora botanist\, author and teacher Jon Greenberg\, PhD will challe
 nge you to question the idea of a hopeless conflict between Torah and scie
 nce. Come learn about the surprising ways that many apparent contradiction
 s between these two ways of thinking have been resolved. We'll look at a w
 ide variety of examples\, including a strange Biblical metaphor that compa
 res loving children to olive trees\, questions that archaeology\, genetics
 \, and the science of gravity have raise...
DTSTART;TZID=America/New_York:20230706T104500
DTEND;TZID=America/New_York:20230706T120000
END:VEVENT
END:VCALENDAR
