BEGIN:VCALENDAR
PRODID:-//eluceo/ical//2.0/EN
VERSION:2.0
CALSCALE:GREGORIAN
BEGIN:VEVENT
UID:aead152744a7fb037d596c1c1416a919
DTSTAMP:20260421T173504Z
SUMMARY:Pop-up Picnic\, Play in the Park -  Popsicles\, too!
DESCRIPTION:Jewish Federation of the Berkshires\nJewish Federation of the B
 erkshires\nhttps://jewishberkshires.org/jewish-federation-of-the-berkshire
 s/pop-up-picnic-in-the-park-popsicles-too-379483\n\nGather to swing on the
  playground\, meet other local families\, listen to a PJ Library story\, a
 nd enjoy an evening meal together. 
DTSTART;TZID=America/New_York:20210609T173000
DTEND;TZID=America/New_York:20210609T190000
END:VEVENT
END:VCALENDAR
