BEGIN:VCALENDAR
PRODID:-//eluceo/ical//2.0/EN
VERSION:2.0
CALSCALE:GREGORIAN
BEGIN:VEVENT
UID:dababefdc8de24c766e29386efe2793f
DTSTAMP:20260423T091428Z
SUMMARY:PJ Library Tu'Bshevat Celebration
DESCRIPTION:Jewish Federation of the Berkshires\nJewish Federation of the B
 erkshires\nhttps://jewishberkshires.org/jewish-federation-of-the-berkshire
 s/pj-library-tubshevat-celebration-482477\n\nCelebrate the birthday of the
  trees with a DIY Terrarium workshop\, led by artists from The Plant Conne
 ctor in Pittsfield.\n\nSnacks and stories included.\n\nRSVP to mmeador@jew
 ishberkshires.org so we have enough supplies for all.
DTSTART;TZID=America/New_York:20250209T140000
DTEND;TZID=America/New_York:20250209T152000
END:VEVENT
END:VCALENDAR
