BEGIN:VCALENDAR
PRODID:-//eluceo/ical//2.0/EN
VERSION:2.0
CALSCALE:GREGORIAN
BEGIN:VEVENT
UID:3843abddfa538e9b5d7ce858c9b4f204
DTSTAMP:20260424T170653Z
SUMMARY:PJ Library Shavuot Climbing and Crafting
DESCRIPTION:Jewish Federation of the Berkshires\nJewish Federation of the B
 erkshires\nhttps://jewishberkshires.org/jewish-federation-of-the-berkshire
 s/pj-library-shavuot-452304\n\n
DTSTART;TZID=America/New_York:20240609T100000
DTEND;TZID=America/New_York:20240609T113000
END:VEVENT
END:VCALENDAR
