BEGIN:VCALENDAR
PRODID:-//eluceo/ical//2.0/EN
VERSION:2.0
CALSCALE:GREGORIAN
BEGIN:VEVENT
UID:3ab04a2a5373c219319057be2b89f919
DTSTAMP:20260421T173024Z
SUMMARY:PJ Library Goes to Tanglewood!
DESCRIPTION:Jewish Federation of the Berkshires\nJewish Federation of the B
 erkshires\nhttps://jewishberkshires.org/jewish-federation-of-the-berkshire
 s/pj-library-goes-to-tanglewood-437244\n\nSAVE THE DATE for PJ Library goe
 s to Tanglewood for the BSO Family Concert. Shabbat spirit and musical joy
 !\n\nMORE INFO TO COME
DTSTART;TZID=America/New_York:20230722T130000
DTEND;TZID=America/New_York:20230722T150000
END:VEVENT
END:VCALENDAR
