BEGIN:VCALENDAR
PRODID:-//eluceo/ical//2.0/EN
VERSION:2.0
CALSCALE:GREGORIAN
BEGIN:VEVENT
UID:fdac98cbf23ade58dc67d752d55080ab
DTSTAMP:20260421T193210Z
SUMMARY:PJ Library Families "Moooove" On In to Summer
DESCRIPTION:Jewish Federation of the Berkshires\nJewish Federation of the B
 erkshires\nhttps://jewishberkshires.org/jewish-federation-of-the-berkshire
 s/pj-library-families-moove-on-in-to-summer-308636\n\n"Cool Summer Kickoff
 ."
DTSTART;TZID=America/New_York:20190621T100000
DTEND;TZID=America/New_York:20190621T120000
END:VEVENT
END:VCALENDAR
