BEGIN:VCALENDAR
PRODID:-//eluceo/ical//2.0/EN
VERSION:2.0
CALSCALE:GREGORIAN
BEGIN:VEVENT
UID:9ae7061b0ef1313b5d90a3a35938d247
DTSTAMP:20260424T000857Z
SUMMARY:PJ Library Chanukkah Celebration: Donut Decorating Extravaganza
DESCRIPTION:Jewish Federation of the Berkshires\nJewish Federation of the B
 erkshires\nhttps://jewishberkshires.org/jewish-federation-of-the-berkshire
 s/pj-library-chanukkah-party-at-dotties-505110\n\nPleaes Register HERE.\n\
 nPJ Library Chanukkah Party at Dottie's Coffee Lounge\n\nDonut Decorating 
 Extravaganza\, Dreidels\, and Doodles!\n\nMore info to come!
DTSTART;TZID=America/New_York:20251207T143000
DTEND;TZID=America/New_York:20251207T160000
END:VEVENT
END:VCALENDAR
