BEGIN:VCALENDAR
PRODID:-//eluceo/ical//2.0/EN
VERSION:2.0
CALSCALE:GREGORIAN
BEGIN:VEVENT
UID:aab6585af54ebb7b6b0c864dfcc220e0
DTSTAMP:20260423T165534Z
SUMMARY:Families at the Apple Farm at 10am
DESCRIPTION:Jewish Federation of the Berkshires\nJewish Federation of the B
 erkshires\nhttps://jewishberkshires.org/jewish-federation-of-the-berkshire
 s/pj-library-at-the-apple-farm-272200\n\nPJ Library Apple Picking at Lakev
 iew Orchards 
DTSTART;TZID=America/New_York:20180916T100000
DTEND;TZID=America/New_York:20180916T120000
END:VEVENT
END:VCALENDAR
