BEGIN:VCALENDAR
PRODID:-//eluceo/ical//2.0/EN
VERSION:2.0
CALSCALE:GREGORIAN
BEGIN:VEVENT
UID:8bb2b95b52674b1aca346b4da21e3dd6
DTSTAMP:20260424T194205Z
SUMMARY:Part of Jewish Book Month - Federation Program "Poetry of Sacred Ti
 me"
DESCRIPTION:Jewish Federation of the Berkshires\nJewish Federation of the B
 erkshires\nhttps://jewishberkshires.org/jewish-federation-of-the-berkshire
 s/part-of-jewish-book-month-federation-program-poetry-of-sacred-time-11348
 0\n\nJewish Federation program "Poetry of Sacred Time"
DTSTART;TZID=America/New_York:20141106T130000
DTEND;TZID=America/New_York:20141106T143000
END:VEVENT
END:VCALENDAR
