BEGIN:VCALENDAR
PRODID:-//eluceo/ical//2.0/EN
VERSION:2.0
CALSCALE:GREGORIAN
BEGIN:VEVENT
UID:e8ff5998257c888b02748e332483c79f
DTSTAMP:20260425T011202Z
SUMMARY:Page to Stage to Screen: Intergenerational Celebration Through Thea
 ter
DESCRIPTION:Jewish Federation of the Berkshires\nJewish Federation of the B
 erkshires\nhttps://jewishberkshires.org/jewish-federation-of-the-berkshire
 s/page-to-stage-to-screen-intergenerational-celebration-through-theater-37
 7915\n\nThis program reminds us of the power of language\, rhythms and cad
 ences that enliven our minds and the hearts. 
DTSTART;TZID=America/New_York:20210520T184500
DTEND;TZID=America/New_York:20210520T194500
END:VEVENT
END:VCALENDAR
