BEGIN:VCALENDAR
PRODID:-//eluceo/ical//2.0/EN
VERSION:2.0
CALSCALE:GREGORIAN
BEGIN:VEVENT
UID:b2f1ea8edca8ed92e563c9c13b028e45
DTSTAMP:20260422T084013Z
SUMMARY:Outdoor Chanukah Celebration
DESCRIPTION:Jewish Federation of the Berkshires\nJewish Federation of the B
 erkshires\nhttps://jewishberkshires.org/jewish-federation-of-the-berkshire
 s/outdoor-chanukah-celebration-390891\n\nCelebrate Chanukah
DTSTART;TZID=America/New_York:20211205T160000
DTEND;TZID=America/New_York:20211205T180000
END:VEVENT
END:VCALENDAR
