BEGIN:VCALENDAR
PRODID:-//eluceo/ical//2.0/EN
VERSION:2.0
CALSCALE:GREGORIAN
BEGIN:VEVENT
UID:85b262a749ad1eeaeaabec0554188863
DTSTAMP:20260423T174350Z
SUMMARY:Only Yesterday...1941-1958
DESCRIPTION:Jewish Federation of the Berkshires\nJewish Federation of the B
 erkshires\nhttps://jewishberkshires.org/jewish-federation-of-the-berkshire
 s/only-yesterday1941-1958-233372\n\nThe Jewish Federation of the Berkshire
 s' Connecting with Community presents "Only Yesterday...1941-1958\," A Mem
 oir by Fedora Horowitz.  Join Fedora as she shares her personal experience
 s in Romania during those turbulent years.
DTSTART;TZID=America/New_York:20170724T104500
DTEND;TZID=America/New_York:20170724T120000
END:VEVENT
END:VCALENDAR
