BEGIN:VCALENDAR
PRODID:-//eluceo/ical//2.0/EN
VERSION:2.0
CALSCALE:GREGORIAN
BEGIN:VEVENT
UID:3db320997d7766106713b3915f1436a5
DTSTAMP:20260423T212506Z
SUMMARY:On-site Tour Through Blue Q's Pop Culture
DESCRIPTION:Jewish Federation of the Berkshires\nJewish Federation of the B
 erkshires\nhttps://jewishberkshires.org/jewish-federation-of-the-berkshire
 s/on-site-tour-through-blue-qs-pop-culture-307822\n\nTaking it on the road
  for this on-site tour of Blue-Q
DTSTART;TZID=America/New_York:20190617T103000
DTEND;TZID=America/New_York:20190617T120000
END:VEVENT
END:VCALENDAR
