BEGIN:VCALENDAR
PRODID:-//eluceo/ical//2.0/EN
VERSION:2.0
CALSCALE:GREGORIAN
BEGIN:VEVENT
UID:d116d6df6b535ec7e93b97bd6755f044
DTSTAMP:20260419T154052Z
SUMMARY:Ohel Zachor - The Yitzhak Rabin Tent of Remembrance
DESCRIPTION:Jewish Federation of the Berkshires\nJewish Federation of the B
 erkshires\nhttps://jewishberkshires.org/jewish-federation-of-the-berkshire
 s/ohel-zachor-the-yitzhak-rabin-tent-of-remembrance-125534\n\nThe Jewish F
 ederation will co-sponsor with Hevreh of Southern Berkshires "Ohel Zachor 
 - The Yitzhak Rabin Tent of Remembrance" 
DTSTART;TZID=America/New_York:20141213T170000
DTEND;TZID=America/New_York:20141213T200000
END:VEVENT
END:VCALENDAR
