BEGIN:VCALENDAR
PRODID:-//eluceo/ical//2.0/EN
VERSION:2.0
CALSCALE:GREGORIAN
BEGIN:VEVENT
UID:86a56640bfab4da990ddc402551003af
DTSTAMP:20260421T075938Z
SUMMARY:NY Times Best Selling Author\, Alice Hoffman
DESCRIPTION:Jewish Federation of the Berkshires\nJewish Federation of the B
 erkshires\nhttps://jewishberkshires.org/jewish-federation-of-the-berkshire
 s/ny-times-best-selling-author-alice-hoffman-321728\n\nNew York Times best
 selling author\, Alice Hoffman\, as she speaks about her recently publishe
 d book The World That We Knew (Simon & Schuster.) 
DTSTART;TZID=America/New_York:20191018T104500
DTEND;TZID=America/New_York:20191018T130000
END:VEVENT
END:VCALENDAR
