BEGIN:VCALENDAR
PRODID:-//eluceo/ical//2.0/EN
VERSION:2.0
CALSCALE:GREGORIAN
BEGIN:VEVENT
UID:c920eebc53e4ed0660e698e66925a219
DTSTAMP:20260421T110534Z
SUMMARY:Noah’s Wine vs. Pharaoh’s Beer: Barroom Brawls that Shaped Jewi
 sh History
DESCRIPTION:Jewish Federation of the Berkshires\nJewish Federation of the B
 erkshires\nhttps://jewishberkshires.org/jewish-federation-of-the-berkshire
 s/noahs-wine-vs-pharaohs-beer-barroom-brawls-that-shaped-jewish-history-48
 5148\n\nBeer was revered as sacred in ancient Egypt and Mesopotamia\, but 
 for Jews\, wine has always been the preferred beverage. Why is that? This 
 presentation on Noah’s Wine vs. Pharaoh’s Beer\, the Barroom Brawl and
  Culture War that Shaped Jewish History by TorahFlora botanist\, author an
 d teacher Jon Greenberg\, PhD will explore how civilization may have begun
  as a way to get a beer\, how Moses instigated the downfall of the Egyptia
 n beer goddess\, the roots of Jewish ambivalence about alcohol in th...
DTSTART;TZID=America/New_York:20250821T104500
DTEND;TZID=America/New_York:20250821T120000
END:VEVENT
END:VCALENDAR
