BEGIN:VCALENDAR
PRODID:-//eluceo/ical//2.0/EN
VERSION:2.0
CALSCALE:GREGORIAN
BEGIN:VEVENT
UID:df882ba3e7c277b313eb85872ff588b7
DTSTAMP:20260424T221034Z
SUMMARY:My City of Dreams
DESCRIPTION:Jewish Federation of the Berkshires\nJewish Federation of the B
 erkshires\nhttps://jewishberkshires.org/jewish-federation-of-the-berkshire
 s/my-city-of-dreams-339191\n\nThe Jewish Federation Connecting with Commun
 ity welcomes Boston based author\, physician and educator Lisa Gruenberg.
DTSTART;TZID=America/New_York:20200302T104500
DTEND;TZID=America/New_York:20200302T120000
END:VEVENT
END:VCALENDAR
