BEGIN:VCALENDAR
PRODID:-//eluceo/ical//2.0/EN
VERSION:2.0
CALSCALE:GREGORIAN
BEGIN:VEVENT
UID:92b9dd210ecfcbb9be775b04dc36b376
DTSTAMP:20260421T212217Z
SUMMARY:Moving Towards Health with Thea Basis
DESCRIPTION:Jewish Federation of the Berkshires\nJewish Federation of the B
 erkshires\nhttps://jewishberkshires.org/jewish-federation-of-the-berkshire
 s/moving-towards-health-with-thea-basis-220483\n\nThe Jewish Federation Co
 nnecting with Community presents Moving Towards Health with Thea Basis.  L
 earn and practice specific exercises to improve strength\, flexibility\, b
 alance\, posture and cardiovascular function.
DTSTART;TZID=America/New_York:20190606T104500
DTEND;TZID=America/New_York:20190606T120000
END:VEVENT
END:VCALENDAR
