BEGIN:VCALENDAR
PRODID:-//eluceo/ical//2.0/EN
VERSION:2.0
CALSCALE:GREGORIAN
BEGIN:VEVENT
UID:26a6492cdca2b04ad0d7646b86cff6c8
DTSTAMP:20260423T025019Z
SUMMARY:Moments to Remember: Stories About Living and Loving
DESCRIPTION:Jewish Federation of the Berkshires\nJewish Federation of the B
 erkshires\nhttps://jewishberkshires.org/jewish-federation-of-the-berkshire
 s/moments-to-remember-stories-about-living-and-loving-436351\n\nJoin educa
 tor\, writer\, and raconteur (not to mention Yiddish scholar) Dick Macht\,
  PhD\, for an in-person reading of autobiographical short stories that are
  filled with love\, laughter\, kindness\, compassion\, understanding\, joy
 \, sorrow\, and happiness. These personal stories represent what it means 
 to be fully alive.  'Moments To Remember' is about living and loving full
 y.\n\nWith a B.A. from Dartmouth College\, an M.A. from Duke University\, 
 and a Ph.D. from Indiana University\,\nMacht has taught I...
DTSTART;TZID=America/New_York:20230914T104500
DTEND;TZID=America/New_York:20230914T114500
END:VEVENT
END:VCALENDAR
