BEGIN:VCALENDAR
PRODID:-//eluceo/ical//2.0/EN
VERSION:2.0
CALSCALE:GREGORIAN
BEGIN:VEVENT
UID:49c9c9dc6f23cb3f531de6fbc144f2a9
DTSTAMP:20260425T001651Z
SUMMARY:Mixtape Live Show - 70 Years of Israeli Life Through Its Music
DESCRIPTION:Jewish Federation of the Berkshires\nJewish Federation of the B
 erkshires\nhttps://jewishberkshires.org/jewish-federation-of-the-berkshire
 s/mixtape-live-show-70-years-of-israeli-life-through-its-music-263012\n\nJ
 oin the Jewish Federation of the Berkshire on a road trip to UMASS Amherst
  for a dazzling musical journey through Israel’s 70 years of statehood.\
 , held in Room 151 at the Integrated Learning Center\, 650 N Pleasant Stre
 et\, Amherst. 
DTSTART;TZID=America/New_York:20180429T190000
DTEND;TZID=America/New_York:20180429T210000
END:VEVENT
END:VCALENDAR
