BEGIN:VCALENDAR
PRODID:-//eluceo/ical//2.0/EN
VERSION:2.0
CALSCALE:GREGORIAN
BEGIN:VEVENT
UID:8a622a9c74bc51a55dc7e3ccbbac4533
DTSTAMP:20260423T010459Z
SUMMARY:Menashe Kadishman: Israeli Artist and Sculptor
DESCRIPTION:Jewish Federation of the Berkshires\nJewish Federation of the B
 erkshires\nhttps://jewishberkshires.org/jewish-federation-of-the-berkshire
 s/menashe-kadishman-israeli-artist-and-sculptor-506207\n\nVia zoom.  Plea
 se click HERE to register.\n\nJoin Dr. Carol Salus for an exploration of I
 sraeli artist\, Menashe Kadishman\, an influential painter and sculptor kn
 own for his unique artistic vision that blended minimalist influences with
  deeply symbolic themes. Kadishman’s early experiences as a shepherd on 
 a kibbutz had a profound impact on his art. This connection to nature and 
 animals became a defining element of his work.\n\nKadishman also created 
 powerful works for the Jewish Museum in...
DTSTART;TZID=America/New_York:20260430T190000
DTEND;TZID=America/New_York:20260430T200000
END:VEVENT
END:VCALENDAR
