BEGIN:VCALENDAR
PRODID:-//eluceo/ical//2.0/EN
VERSION:2.0
CALSCALE:GREGORIAN
BEGIN:VEVENT
UID:59c7c6817ca24798ffbf11939203eea2
DTSTAMP:20260425T205412Z
SUMMARY:Meet the Artists – The Women of the Olive Tree Project
DESCRIPTION:Jewish Federation of the Berkshires\nJewish Federation of the B
 erkshires\nhttps://jewishberkshires.org/jewish-federation-of-the-berkshire
 s/meet-the-artists-the-women-of-the-olive-tree-project-190043\n\nThe Jewis
 h Federation of the Berkshires Connecting with Community invites you toMee
 t the Artists – The Women of the Olive Tree Project
DTSTART;TZID=America/New_York:20160606T104500
DTEND;TZID=America/New_York:20160606T120000
END:VEVENT
END:VCALENDAR
