BEGIN:VCALENDAR
PRODID:-//eluceo/ical//2.0/EN
VERSION:2.0
CALSCALE:GREGORIAN
BEGIN:VEVENT
UID:144d5dca493c8494624e9936a688ec30
DTSTAMP:20260420T175947Z
SUMMARY:Meals of Hope Packing Event
DESCRIPTION:Jewish Federation of the Berkshires\nJewish Federation of the B
 erkshires\nhttps://jewishberkshires.org/jewish-federation-of-the-berkshire
 s/meals-of-hope-packing-event---370744\n\nMeals of Hope
DTSTART;TZID=America/New_York:20210919T090000
DTEND;TZID=America/New_York:20210919T120000
END:VEVENT
END:VCALENDAR
