BEGIN:VCALENDAR
PRODID:-//eluceo/ical//2.0/EN
VERSION:2.0
CALSCALE:GREGORIAN
BEGIN:VEVENT
UID:ef358eae170e4ff9a8b29e6d7b3073f8
DTSTAMP:20260419T134806Z
SUMMARY:Canceled - Matzah 2020
DESCRIPTION:Jewish Federation of the Berkshires\nJewish Federation of the B
 erkshires\nhttps://jewishberkshires.org/jewish-federation-of-the-berkshire
 s/matzah-2020-343632\n\nathy Zises\, farmer/owner of Z Farm in Chatham\, N
 Y.
DTSTART;TZID=America/New_York:20200611T104500
DTEND;TZID=America/New_York:20200611T120000
END:VEVENT
END:VCALENDAR
