BEGIN:VCALENDAR
PRODID:-//eluceo/ical//2.0/EN
VERSION:2.0
CALSCALE:GREGORIAN
BEGIN:VEVENT
UID:1df316deb715fb44c8f7bb276c09ce71
DTSTAMP:20260422T023511Z
SUMMARY:Chanukah LIVE! Wacky Family Fun!
DESCRIPTION:Jewish Federation of the Berkshires\nJewish Federation of the B
 erkshires\nhttps://jewishberkshires.org/jewish-federation-of-the-berkshire
 s/mainstages-365694\n\nGrab your energetic children and join our friends f
 rom mainstages for an engaging\, value-based virtual performance\, which w
 ill include tons of interactive games and activities guaranteed to stretch
  your kid’s imaginations and get their bodies moving\, while simultaneou
 sly offering Chanukah fun for the whole family! This is a live participato
 ry show. Register by December 4\n\n \n\n\n\nThe show link and password wi
 ll be provided via email prior to the event to all registered participants
 .\n\n...
DTSTART;TZID=America/New_York:20201206T100000
DTEND;TZID=America/New_York:20201206T120000
END:VEVENT
END:VCALENDAR
