BEGIN:VCALENDAR
PRODID:-//eluceo/ical//2.0/EN
VERSION:2.0
CALSCALE:GREGORIAN
BEGIN:VEVENT
UID:c6211aea50cfaede2205a97e7a705f0f
DTSTAMP:20260422T143138Z
SUMMARY:Jewish Food Series: Lunch with Authors Rob Bildner & Elisa Spungen 
 Bildner
DESCRIPTION:Jewish Federation of the Berkshires\nJewish Federation of the B
 erkshires\nhttps://jewishberkshires.org/jewish-federation-of-the-berkshire
 s/lunch-with-rob-bildner-and-elisa-spungen-bildner-463550\n\nSpecial Jewis
 h Food Series Lunch Program with Local Chefs\, Authors\, Food Writers\n\nI
 n preparation for the High Holy Days\, joinÂ chefs Elisa Spungen Bildner a
 nd Rob Bildner\, authors of The Berkshires Farm Table Cookbook\, for conve
 rsation over a home-cooked kosher lunch featuring some of their favorite r
 ecipes to Break-the-Fast on Yom Kippur (including squash and spinach quich
 e\, rutabaga latkes\, and blueberry crisp). Enjoy lunch and take home the 
 recipes!Â Â \n\n\n\nTelling the stoÂ­ry of famÂ...
DTSTART;TZID=America/New_York:20240905T120000
DTEND;TZID=America/New_York:20240905T130000
END:VEVENT
END:VCALENDAR
