BEGIN:VCALENDAR
PRODID:-//eluceo/ical//2.0/EN
VERSION:2.0
CALSCALE:GREGORIAN
BEGIN:VEVENT
UID:37efb63552318e29a49c73787d8fc2ef
DTSTAMP:20260419T145420Z
SUMMARY:Lunch and Learn with Rabbi Josh\, "The Book of Esther"
DESCRIPTION:Jewish Federation of the Berkshires\nJewish Federation of the B
 erkshires\nhttps://jewishberkshires.org/jewish-federation-of-the-berkshire
 s/lunch-and-learn-with-rabbi-josh-the-book-of-esther-1458675480-185385\n\n
 Rabbi Josh will lead a guided exploration of the text (in English)\, empha
 sizing its social\, ethical and spiritual themes.  The Temple will provide
  hamentaschen and decaf coffee - please bring a lunch to this free event.
DTSTART;TZID=America/New_York:20160324T120000
DTEND;TZID=America/New_York:20160324T133000
END:VEVENT
END:VCALENDAR
