BEGIN:VCALENDAR
PRODID:-//eluceo/ical//2.0/EN
VERSION:2.0
CALSCALE:GREGORIAN
BEGIN:VEVENT
UID:83c8ac9948f82503b86287ae3eddf164
DTSTAMP:20260421T134316Z
SUMMARY:Lost Synagogues: In Commemoration of Kristallnacht
DESCRIPTION:Jewish Federation of the Berkshires\nJewish Federation of the B
 erkshires\nhttps://jewishberkshires.org/jewish-federation-of-the-berkshire
 s/lost-synagogues-in-commemoration-of-kristallnacht-444334\n\nVia Zoom.  
 To register\, please click HERE.\n\nThe 9th of November is known primaril
 y as the Novemberpogrom (November Pogrom) in the German-speaking world\, t
 hose within the English-speaking world typically know it as Kristallnacht
 : Night of the Broken Glass.  In commemoration\, this program led by Nanc
 y Kotz of Jewish Art Education will introduce European synagogues that wer
 e the center of the Jewish world\, prior to the Holocaust…and highlight 
 those that were destroyed or lost.\n\nJews we...
DTSTART;TZID=America/New_York:20231109T190000
DTEND;TZID=America/New_York:20231109T200000
END:VEVENT
END:VCALENDAR
