BEGIN:VCALENDAR
PRODID:-//eluceo/ical//2.0/EN
VERSION:2.0
CALSCALE:GREGORIAN
BEGIN:VEVENT
UID:9308744aa1f97aeecd078f7145fb378c
DTSTAMP:20260422T050316Z
SUMMARY:Listening to the Still Small Voice
DESCRIPTION:Jewish Federation of the Berkshires\nJewish Federation of the B
 erkshires\nhttps://jewishberkshires.org/jewish-federation-of-the-berkshire
 s/listening-to-the-still-small-voice-268284\n\nThe Jewish Federation Conne
 cting with Community presents "Listening to the Still Small Voice: an Illu
 strated Presentation of Shaker History." \n\nShaker scholar\, Sharon Duane
  Koomler\, will discuss the Shaker's material culture and life.  She will
  include biographical views of individual Shakers and certain work attribu
 ted to them\; thematic interpretations of categories of Shaker culture\; i
 n-depth inquiries into personal individual Shaker's spiritual journeys and
  missionary efforts\; and broad ...
DTSTART;TZID=America/New_York:20180611T104500
DTEND;TZID=America/New_York:20180611T120000
END:VEVENT
END:VCALENDAR
