BEGIN:VCALENDAR
PRODID:-//eluceo/ical//2.0/EN
VERSION:2.0
CALSCALE:GREGORIAN
BEGIN:VEVENT
UID:97880f563eb1ed43f131cc4823850a27
DTSTAMP:20260422T200936Z
SUMMARY:Let's Keep it Moving!
DESCRIPTION:Jewish Federation of the Berkshires\nJewish Federation of the B
 erkshires\nhttps://jewishberkshires.org/jewish-federation-of-the-berkshire
 s/lets-keep-it-moving---333851\n\nshake a leg\, or just your little pinky
DTSTART;TZID=America/New_York:20200109T104500
DTEND;TZID=America/New_York:20200109T120000
END:VEVENT
END:VCALENDAR
