BEGIN:VCALENDAR
PRODID:-//eluceo/ical//2.0/EN
VERSION:2.0
CALSCALE:GREGORIAN
BEGIN:VEVENT
UID:a9a7059d5ae7e94d2aee7b7bfe708c0c
DTSTAMP:20260420T230733Z
SUMMARY:Lag B'Omer BBQ--Connecting with Community Lunch
DESCRIPTION:Jewish Federation of the Berkshires\nJewish Federation of the B
 erkshires\nhttps://jewishberkshires.org/jewish-federation-of-the-berkshire
 s/lag-bomer-bbq-512008\n\nJoin us for a delicious kosher lunch celebrating
  Lag B’Omer (the 33rd day between Passover and Shavuot) with delicious 
 BBQ.\n\nConversation with a home-cooked kosher lunch around our community 
 table.  All are welcome! \n\nAdvance lunch reservations are required and
  can be made by calling (413) 442-2200 before 9 a.m. on the day BEFORE the
  lunch (Wed).  Suggested donation of $3 for adults over age 60.  $7 for
  all others.\n\nFederation makes these programs possible through the gener
 ous s...
DTSTART;TZID=America/New_York:20260507T120000
DTEND;TZID=America/New_York:20260507T130000
END:VEVENT
END:VCALENDAR
