BEGIN:VCALENDAR
PRODID:-//eluceo/ical//2.0/EN
VERSION:2.0
CALSCALE:GREGORIAN
BEGIN:VEVENT
UID:18c93776fdeea53927ebd2f8c4e1f28c
DTSTAMP:20260423T010609Z
SUMMARY:King - Man of Peace in A Time of War
DESCRIPTION:Jewish Federation of the Berkshires\nJewish Federation of the B
 erkshires\nhttps://jewishberkshires.org/jewish-federation-of-the-berkshire
 s/king-man-of-peace-in-time-of-war-294427\n\nFilm King - Man of Peace in A
  Time of War to honor the work of Dr. Martin Luther King\, Jr.
DTSTART;TZID=America/New_York:20190128T104500
DTEND;TZID=America/New_York:20190128T120000
END:VEVENT
END:VCALENDAR
