BEGIN:VCALENDAR
PRODID:-//eluceo/ical//2.0/EN
VERSION:2.0
CALSCALE:GREGORIAN
BEGIN:VEVENT
UID:746695483069a6b8a401a04784937caa
DTSTAMP:20260419T132032Z
SUMMARY:JTS in the Berkshires with Dr Sarah Wolf
DESCRIPTION:Jewish Federation of the Berkshires\nJewish Federation of the B
 erkshires\nhttps://jewishberkshires.org/jewish-federation-of-the-berkshire
 s/jts-in-the-berkshires-with-dr-sarah-wolf-1713475090-464843\n\nJoin us fo
 r the second session of JTS in the Berkshires with Dr Sarah Wolf.\n\nLivin
 g with Uncertainty: Truth and Doubt in Rabbinic Literature\nDr. Sarah Wolf
 \, Assistant Professor of Talmud and Rabbinics\, JTS\nHow do we recognize 
 the truth when we see it? And what do we do when the certainty we desire s
 imply isn’t possible? This talk will explore how the rabbis of the Mishn
 ah and Talmud grappled with these timeless problems\, and what their wisdo
 m can offer us today.\n\n--\nDr. Sarah Wolf’...
DTSTART;TZID=America/New_York:20240809T110000
DTEND;TZID=America/New_York:20240809T123000
END:VEVENT
END:VCALENDAR
