BEGIN:VCALENDAR
PRODID:-//eluceo/ical//2.0/EN
VERSION:2.0
CALSCALE:GREGORIAN
BEGIN:VEVENT
UID:0583a7f4fa3777f8b8b7045b4568373d
DTSTAMP:20260421T190632Z
SUMMARY:JFB Program "Songs of Stage and Screen"
DESCRIPTION:Jewish Federation of the Berkshires\nJewish Federation of the B
 erkshires\nhttps://jewishberkshires.org/jewish-federation-of-the-berkshire
 s/jfb-program-songs-of-stage-and-screen-131723\n\nJewish Federation of the
  Berkshires will host Doug Schmolze\, singer and guitarist with a unique f
 lair\, for "Songs of Stage and Screen"
DTSTART;TZID=America/New_York:20150219T130000
DTEND;TZID=America/New_York:20150219T143000
END:VEVENT
END:VCALENDAR
