BEGIN:VCALENDAR
PRODID:-//eluceo/ical//2.0/EN
VERSION:2.0
CALSCALE:GREGORIAN
BEGIN:VEVENT
UID:111c1d63126294992278e8e3dac1fad8
DTSTAMP:20260425T125507Z
SUMMARY:JFB Program screening of film "Marjorie Morningstar"
DESCRIPTION:Jewish Federation of the Berkshires\nJewish Federation of the B
 erkshires\nhttps://jewishberkshires.org/jewish-federation-of-the-berkshire
 s/jfb-program-screening-of-film-marjorie-morningstar-131759\n\nThe Jewish 
 Federation of the Berkshires will show the 1958 film Marjorie Morningstar 
 based on the 1955 novel of the same name by Herman Wouk
DTSTART;TZID=America/New_York:20150226T130000
DTEND;TZID=America/New_York:20150226T143000
END:VEVENT
END:VCALENDAR
