BEGIN:VCALENDAR
PRODID:-//eluceo/ical//2.0/EN
VERSION:2.0
CALSCALE:GREGORIAN
BEGIN:VEVENT
UID:f589776031e592778e928efe6c7a2ea1
DTSTAMP:20260422T221854Z
SUMMARY:JFB Program "Memories of Jewish Springfield"
DESCRIPTION:Jewish Federation of the Berkshires\nJewish Federation of the B
 erkshires\nhttps://jewishberkshires.org/jewish-federation-of-the-berkshire
 s/jfb-program-memories-of-jewish-springfield-127202\n\nThe Jewish Federati
 on of the Berkshires will present a 45 minute film titled "Memories of Jew
 ish Springfield."  
DTSTART;TZID=America/New_York:20150108T130000
DTEND;TZID=America/New_York:20150108T143000
END:VEVENT
END:VCALENDAR
